BEGIN:VCALENDAR
VERSION:2.0
PRODID:-//hacksw/handcal//NONSGML v1.0//EN
CALSCALE:GREGORIAN
BEGIN:VEVENT
DTEND:20180128T180000
UID:69e7453f7bab9
DTSTAMP:20260421T113703
LOCATION:Philosophenweg 55\, 47051 Duisburg
DESCRIPTION:Bernd Koberling (* 1938) ist ebenso ein Bewahrer wie ein Erneuerer der malerischen Möglichkeiten nach der Moderne. Unabhängig und als großer Individualist inmitten der Nachkriegsgeneration von Baselitz, Kiefer, Kirkeby, Lüpertz und Penck über Polke und Richter bis Gotthard Graubner malt er sich auf die Höhe seiner Zeit.\nIn einer unsteten und immer rascher schwindenden Welt hält er, ausgehend von konzeptuellem Expressionismus und der widerständigen ›Nicht-Reproduzierbarkeit‹ des eigenen Gefühls, an seinem Lebensthema fest: Die Landschaft als Sinnbild menschlichen Daseins, das in Farbe und Licht schroff und gewagt, zart und in kontemplativer Stille darauf drängt, gerade heute von neuem entdeckt zu werden.\nDer die Ausstellung begleitende und reich bebilderte Katalog gibt einen vielfältigen Einblick in das Werk von Bernd Koberling und erschließt es durch weiterführende Aufsätze in Geschichte und Gegenwart.
URL;VALUE=URI:
SUMMARY:Bernd Koberling. Werke 1964-2017
DTSTART:20171117T080000
END:VEVENT
END:VCALENDAR