BEGIN:VCALENDAR
VERSION:2.0
PRODID:-//hacksw/handcal//NONSGML v1.0//EN
CALSCALE:GREGORIAN
BEGIN:VEVENT
DTEND:20150628T180000
UID:69e4fca990242
DTSTAMP:20260419T180249
LOCATION:Synagogenplatz 1\, 45468 Mülheim an der Ruhr
DESCRIPTION:In den Jahren von 1930 bis 1937 schuf Pablo Picasso (1881–1973) eine Folge von hundert Grafiken, die nach dem Verleger und Kunsthändler Ambroise Vollard benannt wurde. Picasso konzentriert sich in dieser weltberühmten grafischen Serie auf fünf Schlüsselthemen wie Liebeskampf, Künstler und Modell sowie den Minotaurus-Mythos, die er auch nach Vollendung der Suite weiter bearbeitet.\n \nDas Kunstmuseum Mülheim an der Ruhr verfügt in seiner Sammlung über 89 Blätter der „Suite Vollard“ von Pablo Picasso. Ergänzt um elf Nachdrucke wird die komplette Suite in dieser Ausstellung im EG gezeigt.\n
URL;VALUE=URI:
SUMMARY:Meisterwerke der Druckgrafik: Pablo Picasso – Die Suite Vollard
DTSTART:20150315T080000
END:VEVENT
END:VCALENDAR